BEGIN:VCALENDAR
VERSION:2.0
PRODID:-//Ft McDermitt Paiute-Shoshone TRB - ECPv6.15.20//NONSGML v1.0//EN
CALSCALE:GREGORIAN
METHOD:PUBLISH
X-ORIGINAL-URL:https://www.fmcdwc.org
X-WR-CALDESC:Events for Ft McDermitt Paiute-Shoshone TRB
REFRESH-INTERVAL;VALUE=DURATION:PT1H
X-Robots-Tag:noindex
X-PUBLISHED-TTL:PT1H
BEGIN:VTIMEZONE
TZID:America/Boise
BEGIN:DAYLIGHT
TZOFFSETFROM:-0700
TZOFFSETTO:-0600
TZNAME:MDT
DTSTART:20190310T090000
END:DAYLIGHT
BEGIN:STANDARD
TZOFFSETFROM:-0600
TZOFFSETTO:-0700
TZNAME:MST
DTSTART:20191103T080000
END:STANDARD
BEGIN:DAYLIGHT
TZOFFSETFROM:-0700
TZOFFSETTO:-0600
TZNAME:MDT
DTSTART:20200308T090000
END:DAYLIGHT
BEGIN:STANDARD
TZOFFSETFROM:-0600
TZOFFSETTO:-0700
TZNAME:MST
DTSTART:20201101T080000
END:STANDARD
BEGIN:DAYLIGHT
TZOFFSETFROM:-0700
TZOFFSETTO:-0600
TZNAME:MDT
DTSTART:20210314T090000
END:DAYLIGHT
BEGIN:STANDARD
TZOFFSETFROM:-0600
TZOFFSETTO:-0700
TZNAME:MST
DTSTART:20211107T080000
END:STANDARD
END:VTIMEZONE
BEGIN:VEVENT
DTSTART;TZID=America/Boise:20200923T080000
DTEND;TZID=America/Boise:20200923T170000
DTSTAMP:20260423T164437
CREATED:20200920T072554Z
LAST-MODIFIED:20200920T072554Z
UID:860-1600848000-1600880400@www.fmcdwc.org
SUMMARY:Gynecologist Merleen onsite
DESCRIPTION:
URL:https://www.fmcdwc.org/event/gynecologist-merleen-onsite/
END:VEVENT
BEGIN:VEVENT
DTSTART;TZID=America/Boise:20200914T080000
DTEND;TZID=America/Boise:20200915T170000
DTSTAMP:20260423T164437
CREATED:20200920T072349Z
LAST-MODIFIED:20200920T072349Z
UID:856-1600070400-1600189200@www.fmcdwc.org
SUMMARY:Dr. Kang Acupuncturist onsite
DESCRIPTION:
URL:https://www.fmcdwc.org/event/dr-kang-acupuncturist-onsite/
END:VEVENT
BEGIN:VEVENT
DTSTART;TZID=America/Boise:20200911T080000
DTEND;TZID=America/Boise:20201009T170000
DTSTAMP:20260423T164437
CREATED:20200920T071837Z
LAST-MODIFIED:20200920T071925Z
UID:852-1599811200-1602262800@www.fmcdwc.org
SUMMARY:CDC Deployment
DESCRIPTION:Contact Tracing Training \nCommunity Mitigation \nIPC
URL:https://www.fmcdwc.org/event/cdc-deployment/
END:VEVENT
BEGIN:VEVENT
DTSTART;VALUE=DATE:20200907
DTEND;VALUE=DATE:20200908
DTSTAMP:20260423T164437
CREATED:20200830T190433Z
LAST-MODIFIED:20200830T190433Z
UID:835-1599436800-1599523199@www.fmcdwc.org
SUMMARY:Labor Day
DESCRIPTION:Clinic is Closed.
URL:https://www.fmcdwc.org/event/labor-day/
END:VEVENT
BEGIN:VEVENT
DTSTART;VALUE=DATE:20200831
DTEND;VALUE=DATE:20200919
DTSTAMP:20260423T164437
CREATED:20200830T190538Z
LAST-MODIFIED:20200830T190542Z
UID:837-1598832000-1600473599@www.fmcdwc.org
SUMMARY:Well Child Exam
DESCRIPTION:WELL CHILD EXAM FOR OUR TRIBAL YOUTH
URL:https://www.fmcdwc.org/event/well-child-exam/
END:VEVENT
BEGIN:VEVENT
DTSTART;TZID=America/Boise:20200728T100000
DTEND;TZID=America/Boise:20200728T140000
DTSTAMP:20260423T164437
CREATED:20200723T232325Z
LAST-MODIFIED:20200723T232325Z
UID:803-1595930400-1595944800@www.fmcdwc.org
SUMMARY:Drive-Thru Covid-19 Testing
DESCRIPTION:Nevada National Guard will be onsite at the Fort McDermitt Wellness Center to provide Covid-19 screening and testing.\nTuesday July 28th | 10AM – 2PM | Questions?  Call 775-532-8522 or email info@fmcdwc.org
URL:https://www.fmcdwc.org/event/drive-thru-covid-19-testing/
LOCATION:Wellness Center\, 112 North Reservation Rd\, McDermitt\, NV\, 89421\, United States
END:VEVENT
BEGIN:VEVENT
DTSTART;TZID=America/Boise:20200630T080000
DTEND;TZID=America/Boise:20200630T170000
DTSTAMP:20260423T164437
CREATED:20200630T213620Z
LAST-MODIFIED:20200630T213620Z
UID:791-1593504000-1593536400@www.fmcdwc.org
SUMMARY:
DESCRIPTION:
URL:https://www.fmcdwc.org/event/791/
END:VEVENT
BEGIN:VEVENT
DTSTART;TZID=America/Boise:20200630T080000
DTEND;TZID=America/Boise:20200630T170000
DTSTAMP:20260423T164437
CREATED:20200630T213442Z
LAST-MODIFIED:20200630T213442Z
UID:788-1593504000-1593536400@www.fmcdwc.org
SUMMARY:
DESCRIPTION:
URL:https://www.fmcdwc.org/event/788/
END:VEVENT
BEGIN:VEVENT
DTSTART;TZID=America/Boise:20200630T080000
DTEND;TZID=America/Boise:20200630T170000
DTSTAMP:20260423T164437
CREATED:20200630T213247Z
LAST-MODIFIED:20200630T213247Z
UID:785-1593504000-1593536400@www.fmcdwc.org
SUMMARY:
DESCRIPTION:
URL:https://www.fmcdwc.org/event/785/
END:VEVENT
BEGIN:VEVENT
DTSTART;TZID=America/Boise:20200630T080000
DTEND;TZID=America/Boise:20200630T170000
DTSTAMP:20260423T164437
CREATED:20200630T213009Z
LAST-MODIFIED:20200630T213009Z
UID:781-1593504000-1593536400@www.fmcdwc.org
SUMMARY:WELCOME Cauy Crutcher\, Dental Assistant Intern
DESCRIPTION:
URL:https://www.fmcdwc.org/event/welcome-cauy-crutcher-dental-assistant-intern/
END:VEVENT
BEGIN:VEVENT
DTSTART;TZID=America/Boise:20200630T080000
DTEND;TZID=America/Boise:20200630T170000
DTSTAMP:20260423T164437
CREATED:20200630T205659Z
LAST-MODIFIED:20200630T205659Z
UID:773-1593504000-1593536400@www.fmcdwc.org
SUMMARY:Wednesday's 9:00 am - 4:00 pm
DESCRIPTION:
URL:https://www.fmcdwc.org/event/wednesdays-900-am-400-pm/
END:VEVENT
BEGIN:VEVENT
DTSTART;TZID=America/Boise:20200615T080000
DTEND;TZID=America/Boise:20200615T170000
DTSTAMP:20260423T164437
CREATED:20200612T233922Z
LAST-MODIFIED:20200612T233922Z
UID:753-1592208000-1592240400@www.fmcdwc.org
SUMMARY:UPCOMING EVENTS
DESCRIPTION:
URL:https://www.fmcdwc.org/event/upcoming-events/
END:VEVENT
BEGIN:VEVENT
DTSTART;TZID=America/Boise:20200615T080000
DTEND;TZID=America/Boise:20200615T170000
DTSTAMP:20260423T164437
CREATED:20200612T232941Z
LAST-MODIFIED:20200612T232941Z
UID:749-1592208000-1592240400@www.fmcdwc.org
SUMMARY:Dr. Jun Kang\, ACUPUNCTURIST
DESCRIPTION:
URL:https://www.fmcdwc.org/event/dr-jun-kang-acupuncturist/
END:VEVENT
BEGIN:VEVENT
DTSTART;TZID=America/Boise:20200615T080000
DTEND;TZID=America/Boise:20200615T160000
DTSTAMP:20260423T164437
CREATED:20200612T235526Z
LAST-MODIFIED:20200612T235526Z
UID:756-1592208000-1592236800@www.fmcdwc.org
SUMMARY:Ereka Christine Bishop\, REGISTERED DIETITIAN
DESCRIPTION:
URL:https://www.fmcdwc.org/event/ereka-christine-bishop-registered-dietitian/
END:VEVENT
BEGIN:VEVENT
DTSTART;TZID=America/Boise:20200615T070000
DTEND;TZID=America/Boise:20200615T160000
DTSTAMP:20260423T164437
CREATED:20200612T232438Z
LAST-MODIFIED:20200612T232438Z
UID:746-1592204400-1592236800@www.fmcdwc.org
SUMMARY:WELCOME NEW ONSITE MEDICAL PROVIDER
DESCRIPTION:
URL:https://www.fmcdwc.org/event/welcome-new-onsite-medical-provider/
END:VEVENT
BEGIN:VEVENT
DTSTART;TZID=America/Boise:20200612T080000
DTEND;TZID=America/Boise:20200612T170000
DTSTAMP:20260423T164438
CREATED:20200612T233337Z
LAST-MODIFIED:20200612T233337Z
UID:751-1591948800-1591981200@www.fmcdwc.org
SUMMARY:Covid-19 Testing Is Available
DESCRIPTION:
URL:https://www.fmcdwc.org/event/covid-19-testing-is-available/
END:VEVENT
BEGIN:VEVENT
DTSTART;TZID=America/Boise:20200612T080000
DTEND;TZID=America/Boise:20200612T170000
DTSTAMP:20260423T164438
CREATED:20200612T231310Z
LAST-MODIFIED:20200612T231310Z
UID:740-1591948800-1591981200@www.fmcdwc.org
SUMMARY:AQUATHERAPY
DESCRIPTION:
URL:https://www.fmcdwc.org/event/aquatherapy/
END:VEVENT
BEGIN:VEVENT
DTSTART;TZID=America/Boise:20200429T080000
DTEND;TZID=America/Boise:20200429T170000
DTSTAMP:20260423T164438
CREATED:20200418T085941Z
LAST-MODIFIED:20200418T085941Z
UID:716-1588147200-1588179600@www.fmcdwc.org
SUMMARY:Gyn Specialist: M. Grove\,
DESCRIPTION:Gynecological Care \nPrenatal \nPostnatal \nProcedures
URL:https://www.fmcdwc.org/event/gyn-specialist-m-grove/
END:VEVENT
BEGIN:VEVENT
DTSTART;VALUE=DATE:20200427
DTEND;VALUE=DATE:20200429
DTSTAMP:20260423T164438
CREATED:20200413T101228Z
LAST-MODIFIED:20200413T101228Z
UID:693-1587945600-1588118399@www.fmcdwc.org
SUMMARY:Dr. Kang visit
DESCRIPTION:
URL:https://www.fmcdwc.org/event/dr-kang-visit/
END:VEVENT
BEGIN:VEVENT
DTSTART;TZID=America/Boise:20200325T160000
DTEND;TZID=America/Boise:20200325T180000
DTSTAMP:20260423T164438
CREATED:20200111T000019Z
LAST-MODIFIED:20200219T220419Z
UID:534-1585152000-1585159200@www.fmcdwc.org
SUMMARY:Q1 Health Fair by FMWC
DESCRIPTION:Community Health Fair and Easter Celebration! \nMarch 25\, 2020 at the Youth Center \n\nEaster Bunny\nGifts\nGames\nDelicous food served\nGiveaways\, Raffle and Donations!\nPatient responsibility booth\nDHSS Medicaid booth\nEducational Booth\n\nQuestions? Call 532-8522
URL:https://www.fmcdwc.org/event/q1-health-fair-by-fmwc/
LOCATION:Fort McDermitt Youth Center
END:VEVENT
BEGIN:VEVENT
DTSTART;VALUE=DATE:20200323
DTEND;VALUE=DATE:20200326
DTSTAMP:20260423T164438
CREATED:20200413T101130Z
LAST-MODIFIED:20200413T101139Z
UID:691-1584921600-1585180799@www.fmcdwc.org
SUMMARY:Dr. Kang Acupuncture Visit
DESCRIPTION:
URL:https://www.fmcdwc.org/event/dr-kang-acupuncture-visit/
END:VEVENT
BEGIN:VEVENT
DTSTART;TZID=America/Boise:20200217T080000
DTEND;TZID=America/Boise:20200217T170000
DTSTAMP:20260423T164438
CREATED:20200205T003908Z
LAST-MODIFIED:20200205T162512Z
UID:559-1581926400-1581958800@www.fmcdwc.org
SUMMARY:President's Day Clinic Closed
DESCRIPTION:
URL:https://www.fmcdwc.org/event/presidents-day-clinic-closed/
END:VEVENT
BEGIN:VEVENT
DTSTART;TZID=America/Boise:20200214T120000
DTEND;TZID=America/Boise:20200214T170000
DTSTAMP:20260423T164438
CREATED:20200205T003944Z
LAST-MODIFIED:20200205T003944Z
UID:561-1581681600-1581699600@www.fmcdwc.org
SUMMARY:Happy Valentine's Day-- Admin Day from 12pm to 5pm
DESCRIPTION:
URL:https://www.fmcdwc.org/event/happy-valentines-day-admin-day-from-12pm-to-5pm/
END:VEVENT
BEGIN:VEVENT
DTSTART;VALUE=DATE:20200120
DTEND;VALUE=DATE:20200121
DTSTAMP:20260423T164438
CREATED:20200110T235804Z
LAST-MODIFIED:20200110T235804Z
UID:530-1579478400-1579564799@www.fmcdwc.org
SUMMARY:MLK Clinic is Closed
DESCRIPTION:
URL:https://www.fmcdwc.org/event/mlk-clinic-is-closed/
END:VEVENT
BEGIN:VEVENT
DTSTART;TZID=America/Boise:20200113T120000
DTEND;TZID=America/Boise:20200113T130000
DTSTAMP:20260423T164438
CREATED:20200115T173116Z
LAST-MODIFIED:20200115T173116Z
UID:549-1578916800-1578920400@www.fmcdwc.org
SUMMARY:Dr. Bae Meeting w/ PCS Staff
DESCRIPTION:
URL:https://www.fmcdwc.org/event/dr-bae-meeting-w-pcs-staff/
END:VEVENT
BEGIN:VEVENT
DTSTART;VALUE=DATE:20200113
DTEND;VALUE=DATE:20200115
DTSTAMP:20260423T164438
CREATED:20200110T235715Z
LAST-MODIFIED:20200110T235715Z
UID:527-1578873600-1579046399@www.fmcdwc.org
SUMMARY:Acupuncturist Onsite
DESCRIPTION:Dr. Jun Kang is onsite on Jan. 13th and 14th for Acupuncture Services.
URL:https://www.fmcdwc.org/event/acupuncturist-onsite/
LOCATION:Wellness Center\, 112 North Reservation Rd\, McDermitt\, NV\, 89421\, United States
END:VEVENT
BEGIN:VEVENT
DTSTART;VALUE=DATE:20200110
DTEND;VALUE=DATE:20200201
DTSTAMP:20260423T164438
CREATED:20200111T000117Z
LAST-MODIFIED:20200111T000117Z
UID:536-1578614400-1580515199@www.fmcdwc.org
SUMMARY:January-Cervical Cancer Awareness Month
DESCRIPTION:
URL:https://www.fmcdwc.org/event/january-cervical-cancer-awareness-month/
END:VEVENT
BEGIN:VEVENT
DTSTART;TZID=America/Boise:20200108T080000
DTEND;TZID=America/Boise:20200108T170000
DTSTAMP:20260423T164438
CREATED:20200115T173018Z
LAST-MODIFIED:20200115T173018Z
UID:547-1578470400-1578502800@www.fmcdwc.org
SUMMARY:Dr. Bae Meeting w/ MBA from Coppell\, TX
DESCRIPTION:
URL:https://www.fmcdwc.org/event/dr-bae-meeting-w-mba-from-coppell-tx/
END:VEVENT
BEGIN:VEVENT
DTSTART;TZID=America/Boise:20200107T080000
DTEND;TZID=America/Boise:20200107T170000
DTSTAMP:20260423T164438
CREATED:20200115T172926Z
LAST-MODIFIED:20200115T172926Z
UID:544-1578384000-1578416400@www.fmcdwc.org
SUMMARY:Dr. Bae Meeting  w/ FM Staff
DESCRIPTION:
URL:https://www.fmcdwc.org/event/dr-bae-meeting-w-fm-staff/
END:VEVENT
BEGIN:VEVENT
DTSTART;TZID=America/Boise:20200102T080000
DTEND;TZID=America/Boise:20200102T170000
DTSTAMP:20260423T164438
CREATED:20200115T173224Z
LAST-MODIFIED:20200115T173224Z
UID:551-1577952000-1577984400@www.fmcdwc.org
SUMMARY:Dr. Bae Training - Billiing and Finances Dpt.
DESCRIPTION:
URL:https://www.fmcdwc.org/event/dr-bae-training-billiing-and-finances-dpt/
END:VEVENT
END:VCALENDAR