BEGIN:VCALENDAR
VERSION:2.0
PRODID:-//Ft McDermitt Paiute-Shoshone TRB - ECPv6.15.20//NONSGML v1.0//EN
CALSCALE:GREGORIAN
METHOD:PUBLISH
X-ORIGINAL-URL:https://www.fmcdwc.org
X-WR-CALDESC:Events for Ft McDermitt Paiute-Shoshone TRB
REFRESH-INTERVAL;VALUE=DURATION:PT1H
X-Robots-Tag:noindex
X-PUBLISHED-TTL:PT1H
BEGIN:VTIMEZONE
TZID:America/Boise
BEGIN:DAYLIGHT
TZOFFSETFROM:-0700
TZOFFSETTO:-0600
TZNAME:MDT
DTSTART:20190310T090000
END:DAYLIGHT
BEGIN:STANDARD
TZOFFSETFROM:-0600
TZOFFSETTO:-0700
TZNAME:MST
DTSTART:20191103T080000
END:STANDARD
BEGIN:DAYLIGHT
TZOFFSETFROM:-0700
TZOFFSETTO:-0600
TZNAME:MDT
DTSTART:20200308T090000
END:DAYLIGHT
BEGIN:STANDARD
TZOFFSETFROM:-0600
TZOFFSETTO:-0700
TZNAME:MST
DTSTART:20201101T080000
END:STANDARD
BEGIN:DAYLIGHT
TZOFFSETFROM:-0700
TZOFFSETTO:-0600
TZNAME:MDT
DTSTART:20210314T090000
END:DAYLIGHT
BEGIN:STANDARD
TZOFFSETFROM:-0600
TZOFFSETTO:-0700
TZNAME:MST
DTSTART:20211107T080000
END:STANDARD
END:VTIMEZONE
BEGIN:VEVENT
DTSTART;TZID=America/Boise:20201112T100000
DTEND;TZID=America/Boise:20201112T150000
DTSTAMP:20260423T135522
CREATED:20201015T023519Z
LAST-MODIFIED:20201015T023523Z
UID:959-1605175200-1605193200@www.fmcdwc.org
SUMMARY:Podiatrist (Foot Doctor) Patton onsite (11/12/20)
DESCRIPTION:Dr. J. Patton will be onsite to take care of your foot problems. \nEveryone is welcome to visit between 1oam to 2:00pm.
URL:https://www.fmcdwc.org/event/podiatrist-foot-doctor-patton-onsite-11-12-20/
END:VEVENT
BEGIN:VEVENT
DTSTART;TZID=America/Boise:20201111T080000
DTEND;TZID=America/Boise:20201111T170000
DTSTAMP:20260423T135522
CREATED:20200929T184735Z
LAST-MODIFIED:20200929T184735Z
UID:880-1605081600-1605114000@www.fmcdwc.org
SUMMARY:Veterans Day-Clinic is Closed
DESCRIPTION:
URL:https://www.fmcdwc.org/event/veterans-day-clinic-is-closed/
END:VEVENT
BEGIN:VEVENT
DTSTART;TZID=America/Boise:20201110T100000
DTEND;TZID=America/Boise:20201110T120000
DTSTAMP:20260423T135522
CREATED:20201110T002700Z
LAST-MODIFIED:20201110T002710Z
UID:1015-1605002400-1605009600@www.fmcdwc.org
SUMMARY:November: Diabetes Awareness Month_Diabetes Day & Veteran Day
DESCRIPTION:
URL:https://www.fmcdwc.org/event/november-diabetes-awareness-month_diabetes-day-veteran-day/
END:VEVENT
BEGIN:VEVENT
DTSTART;TZID=America/Boise:20201107T090000
DTEND;TZID=America/Boise:20201107T150000
DTSTAMP:20260423T135522
CREATED:20201101T050548Z
LAST-MODIFIED:20201101T050616Z
UID:1009-1604739600-1604761200@www.fmcdwc.org
SUMMARY:Women's Clinic on Saturday 11/7
DESCRIPTION:Merleen\, APRN\, onsite from 9am to 3pm. \nGirls\, Women\, Elder Women–all welcom.
URL:https://www.fmcdwc.org/event/womens-clinic-on-saturday-11-7/
END:VEVENT
BEGIN:VEVENT
DTSTART;TZID=America/Boise:20201030T080000
DTEND;TZID=America/Boise:20201030T170000
DTSTAMP:20260423T135522
CREATED:20201005T214906Z
LAST-MODIFIED:20201005T214910Z
UID:920-1604044800-1604077200@www.fmcdwc.org
SUMMARY:Nevada Day--Clinic Closed
DESCRIPTION:
URL:https://www.fmcdwc.org/event/nevada-day-clinic-closed/
END:VEVENT
BEGIN:VEVENT
DTSTART;TZID=America/Boise:20201030T080000
DTEND;TZID=America/Boise:20201030T170000
DTSTAMP:20260423T135522
CREATED:20200920T071749Z
LAST-MODIFIED:20200920T071749Z
UID:850-1604044800-1604077200@www.fmcdwc.org
SUMMARY:Nevada Day
DESCRIPTION:
URL:https://www.fmcdwc.org/event/nevada-day/
END:VEVENT
BEGIN:VEVENT
DTSTART;TZID=America/Boise:20201028T090000
DTEND;TZID=America/Boise:20201028T160000
DTSTAMP:20260423T135522
CREATED:20201005T214749Z
LAST-MODIFIED:20201005T214752Z
UID:918-1603875600-1603900800@www.fmcdwc.org
SUMMARY:Gynecology w/ Merleen
DESCRIPTION:
URL:https://www.fmcdwc.org/event/gynecology-w-merleen/
END:VEVENT
BEGIN:VEVENT
DTSTART;TZID=America/Boise:20201021T090000
DTEND;TZID=America/Boise:20201021T120000
DTSTAMP:20260423T135522
CREATED:20201015T024818Z
LAST-MODIFIED:20201015T024821Z
UID:972-1603270800-1603281600@www.fmcdwc.org
SUMMARY:Immunization Day & Domestic Violence Day
DESCRIPTION:Purple Day \nMasks \nGloves \nSnacks \nPPE’s \nDisinfectants
URL:https://www.fmcdwc.org/event/immunization-day-domestic-violence-day/
END:VEVENT
BEGIN:VEVENT
DTSTART;TZID=America/Boise:20201019T080000
DTEND;TZID=America/Boise:20201020T170000
DTSTAMP:20260423T135522
CREATED:20200920T072523Z
LAST-MODIFIED:20200920T072523Z
UID:858-1603094400-1603213200@www.fmcdwc.org
SUMMARY:Acupuncturist Dr. Kang
DESCRIPTION:
URL:https://www.fmcdwc.org/event/acupuncturist-dr-kang/
END:VEVENT
BEGIN:VEVENT
DTSTART;TZID=America/Boise:20201016T100000
DTEND;TZID=America/Boise:20201016T120000
DTSTAMP:20260423T135522
CREATED:20201015T024335Z
LAST-MODIFIED:20201015T024339Z
UID:967-1602842400-1602849600@www.fmcdwc.org
SUMMARY:Nike Shoes Day for Kids
DESCRIPTION:
URL:https://www.fmcdwc.org/event/nike-shoes-day-for-kids-2/
END:VEVENT
BEGIN:VEVENT
DTSTART;TZID=America/Boise:20201014T100000
DTEND;TZID=America/Boise:20201014T120000
DTSTAMP:20260423T135522
CREATED:20201015T024152Z
LAST-MODIFIED:20201015T024156Z
UID:965-1602669600-1602676800@www.fmcdwc.org
SUMMARY:Nike Shoes Day for Kids
DESCRIPTION:
URL:https://www.fmcdwc.org/event/nike-shoes-day-for-kids/
END:VEVENT
BEGIN:VEVENT
DTSTART;TZID=America/Boise:20201014T090000
DTEND;TZID=America/Boise:20201014T160000
DTSTAMP:20260423T135522
CREATED:20201005T214605Z
LAST-MODIFIED:20201005T214608Z
UID:916-1602666000-1602691200@www.fmcdwc.org
SUMMARY:Gynecology Women's Care w/ Merleen
DESCRIPTION:Merleen is onsite twice a month–Wednesday–2nd and 4th Wednesdays: \n\n1.  Cervical cancer screening. (Recommended everyone 3 years age 21-30\, then every 5 years 30-65\, as long as results are always normal). \n2.  Sexually Transmitted Infection Screening and treatment. \n3.  Vaginal infection screening and treatment (yeast\, bacterial vaginitis\, etc.) \n4.  Yearly physicals and exams for all age females. \n  \n5.  Helping women with birth control. \n  \n6.  Helping young women understand their body as it changes. \n  \n7.  Pregnancy testing. \n  \n8.  Prenatal exams and care. \n  \n9.  Heavy period control. \n  \n10.  Menopausal symptom control. \n  \n11.  Help with irregular or painful periods. \n  \n12.  Postnatal care. \n  \n13.  Vaccination \n  \n14.  Etc. \n\nMerleen is excited to be working with us at FMWC.
URL:https://www.fmcdwc.org/event/gynecology-womens-care-w-merleen/
END:VEVENT
BEGIN:VEVENT
DTSTART;TZID=America/Boise:20201014T080000
DTEND;TZID=America/Boise:20201014T170000
DTSTAMP:20260423T135522
CREATED:20201015T025723Z
LAST-MODIFIED:20201015T025726Z
UID:980-1602662400-1602694800@www.fmcdwc.org
SUMMARY:COVID-19 Counts (10/14/2020)
DESCRIPTION:
URL:https://www.fmcdwc.org/event/covid-19-counts-10-14-2020/
END:VEVENT
BEGIN:VEVENT
DTSTART;VALUE=DATE:20201014
DTEND;VALUE=DATE:20201016
DTSTAMP:20260423T135522
CREATED:20201015T023936Z
LAST-MODIFIED:20201015T023939Z
UID:963-1602633600-1602806399@www.fmcdwc.org
SUMMARY:COVID-19 Testing Drive Thru only
DESCRIPTION:
URL:https://www.fmcdwc.org/event/covid-19-testing-drive-thru-only/
END:VEVENT
BEGIN:VEVENT
DTSTART;VALUE=DATE:20201014
DTEND;VALUE=DATE:20201016
DTSTAMP:20260423T135522
CREATED:20201015T023856Z
LAST-MODIFIED:20201015T023859Z
UID:961-1602633600-1602806399@www.fmcdwc.org
SUMMARY:Fogging the building
DESCRIPTION:
URL:https://www.fmcdwc.org/event/fogging-the-building/
END:VEVENT
BEGIN:VEVENT
DTSTART;TZID=America/Boise:20201012T080000
DTEND;TZID=America/Boise:20201012T170000
DTSTAMP:20260423T135522
CREATED:20200929T184656Z
LAST-MODIFIED:20200929T184656Z
UID:878-1602489600-1602522000@www.fmcdwc.org
SUMMARY:Nevada Day--Clinic is Closed.
DESCRIPTION:
URL:https://www.fmcdwc.org/event/nevada-day-clinic-is-closed/
END:VEVENT
BEGIN:VEVENT
DTSTART;TZID=America/Boise:20201012T080000
DTEND;TZID=America/Boise:20201012T170000
DTSTAMP:20260423T135522
CREATED:20200929T184623Z
LAST-MODIFIED:20200929T184623Z
UID:876-1602489600-1602522000@www.fmcdwc.org
SUMMARY:Indigenous Day - Clinic is Closed
DESCRIPTION:
URL:https://www.fmcdwc.org/event/indigenous-day-clinic-is-closed/
END:VEVENT
BEGIN:VEVENT
DTSTART;TZID=America/Boise:20201009T090000
DTEND;TZID=America/Boise:20201009T120000
DTSTAMP:20260423T135522
CREATED:20201005T191710Z
LAST-MODIFIED:20201005T191710Z
UID:905-1602234000-1602244800@www.fmcdwc.org
SUMMARY:Women's Flu Clinic
DESCRIPTION:
URL:https://www.fmcdwc.org/event/womens-flu-clinic/
END:VEVENT
BEGIN:VEVENT
DTSTART;TZID=America/Boise:20200930T100000
DTEND;TZID=America/Boise:20200930T120000
DTSTAMP:20260423T135522
CREATED:20200929T184452Z
LAST-MODIFIED:20200929T184452Z
UID:874-1601460000-1601467200@www.fmcdwc.org
SUMMARY:Flu Clinic Drive Thru for Head Start Kids
DESCRIPTION:
URL:https://www.fmcdwc.org/event/flu-clinic-drive-thru-for-head-start-kids/
END:VEVENT
BEGIN:VEVENT
DTSTART;TZID=America/Boise:20200925T080000
DTEND;TZID=America/Boise:20200925T170000
DTSTAMP:20260423T135522
CREATED:20200920T071705Z
LAST-MODIFIED:20200920T071705Z
UID:848-1601020800-1601053200@www.fmcdwc.org
SUMMARY:Nevada Indian Day
DESCRIPTION:Clinic is Closed
URL:https://www.fmcdwc.org/event/nevada-indian-day/
END:VEVENT
BEGIN:VEVENT
DTSTART;TZID=America/Boise:20200923T080000
DTEND;TZID=America/Boise:20200923T170000
DTSTAMP:20260423T135522
CREATED:20200920T072554Z
LAST-MODIFIED:20200920T072554Z
UID:860-1600848000-1600880400@www.fmcdwc.org
SUMMARY:Gynecologist Merleen onsite
DESCRIPTION:
URL:https://www.fmcdwc.org/event/gynecologist-merleen-onsite/
END:VEVENT
BEGIN:VEVENT
DTSTART;TZID=America/Boise:20200914T080000
DTEND;TZID=America/Boise:20200915T170000
DTSTAMP:20260423T135522
CREATED:20200920T072349Z
LAST-MODIFIED:20200920T072349Z
UID:856-1600070400-1600189200@www.fmcdwc.org
SUMMARY:Dr. Kang Acupuncturist onsite
DESCRIPTION:
URL:https://www.fmcdwc.org/event/dr-kang-acupuncturist-onsite/
END:VEVENT
BEGIN:VEVENT
DTSTART;TZID=America/Boise:20200911T080000
DTEND;TZID=America/Boise:20201009T170000
DTSTAMP:20260423T135522
CREATED:20200920T071837Z
LAST-MODIFIED:20200920T071925Z
UID:852-1599811200-1602262800@www.fmcdwc.org
SUMMARY:CDC Deployment
DESCRIPTION:Contact Tracing Training \nCommunity Mitigation \nIPC
URL:https://www.fmcdwc.org/event/cdc-deployment/
END:VEVENT
BEGIN:VEVENT
DTSTART;VALUE=DATE:20200907
DTEND;VALUE=DATE:20200908
DTSTAMP:20260423T135522
CREATED:20200830T190433Z
LAST-MODIFIED:20200830T190433Z
UID:835-1599436800-1599523199@www.fmcdwc.org
SUMMARY:Labor Day
DESCRIPTION:Clinic is Closed.
URL:https://www.fmcdwc.org/event/labor-day/
END:VEVENT
BEGIN:VEVENT
DTSTART;VALUE=DATE:20200831
DTEND;VALUE=DATE:20200919
DTSTAMP:20260423T135522
CREATED:20200830T190538Z
LAST-MODIFIED:20200830T190542Z
UID:837-1598832000-1600473599@www.fmcdwc.org
SUMMARY:Well Child Exam
DESCRIPTION:WELL CHILD EXAM FOR OUR TRIBAL YOUTH
URL:https://www.fmcdwc.org/event/well-child-exam/
END:VEVENT
BEGIN:VEVENT
DTSTART;TZID=America/Boise:20200728T100000
DTEND;TZID=America/Boise:20200728T140000
DTSTAMP:20260423T135522
CREATED:20200723T232325Z
LAST-MODIFIED:20200723T232325Z
UID:803-1595930400-1595944800@www.fmcdwc.org
SUMMARY:Drive-Thru Covid-19 Testing
DESCRIPTION:Nevada National Guard will be onsite at the Fort McDermitt Wellness Center to provide Covid-19 screening and testing.\nTuesday July 28th | 10AM – 2PM | Questions?  Call 775-532-8522 or email info@fmcdwc.org
URL:https://www.fmcdwc.org/event/drive-thru-covid-19-testing/
LOCATION:Wellness Center\, 112 North Reservation Rd\, McDermitt\, NV\, 89421\, United States
END:VEVENT
BEGIN:VEVENT
DTSTART;TZID=America/Boise:20200630T080000
DTEND;TZID=America/Boise:20200630T170000
DTSTAMP:20260423T135522
CREATED:20200630T213620Z
LAST-MODIFIED:20200630T213620Z
UID:791-1593504000-1593536400@www.fmcdwc.org
SUMMARY:
DESCRIPTION:
URL:https://www.fmcdwc.org/event/791/
END:VEVENT
BEGIN:VEVENT
DTSTART;TZID=America/Boise:20200630T080000
DTEND;TZID=America/Boise:20200630T170000
DTSTAMP:20260423T135522
CREATED:20200630T213442Z
LAST-MODIFIED:20200630T213442Z
UID:788-1593504000-1593536400@www.fmcdwc.org
SUMMARY:
DESCRIPTION:
URL:https://www.fmcdwc.org/event/788/
END:VEVENT
BEGIN:VEVENT
DTSTART;TZID=America/Boise:20200630T080000
DTEND;TZID=America/Boise:20200630T170000
DTSTAMP:20260423T135522
CREATED:20200630T213247Z
LAST-MODIFIED:20200630T213247Z
UID:785-1593504000-1593536400@www.fmcdwc.org
SUMMARY:
DESCRIPTION:
URL:https://www.fmcdwc.org/event/785/
END:VEVENT
BEGIN:VEVENT
DTSTART;TZID=America/Boise:20200630T080000
DTEND;TZID=America/Boise:20200630T170000
DTSTAMP:20260423T135522
CREATED:20200630T213009Z
LAST-MODIFIED:20200630T213009Z
UID:781-1593504000-1593536400@www.fmcdwc.org
SUMMARY:WELCOME Cauy Crutcher\, Dental Assistant Intern
DESCRIPTION:
URL:https://www.fmcdwc.org/event/welcome-cauy-crutcher-dental-assistant-intern/
END:VEVENT
END:VCALENDAR