BEGIN:VCALENDAR
VERSION:2.0
PRODID:-//Ft McDermitt Paiute-Shoshone TRB - ECPv6.15.20//NONSGML v1.0//EN
CALSCALE:GREGORIAN
METHOD:PUBLISH
X-WR-CALNAME:Ft McDermitt Paiute-Shoshone TRB
X-ORIGINAL-URL:https://www.fmcdwc.org
X-WR-CALDESC:Events for Ft McDermitt Paiute-Shoshone TRB
REFRESH-INTERVAL;VALUE=DURATION:PT1H
X-Robots-Tag:noindex
X-PUBLISHED-TTL:PT1H
BEGIN:VTIMEZONE
TZID:America/Phoenix
BEGIN:STANDARD
TZOFFSETFROM:-0700
TZOFFSETTO:-0700
TZNAME:MST
DTSTART:20210101T000000
END:STANDARD
END:VTIMEZONE
BEGIN:VTIMEZONE
TZID:America/Boise
BEGIN:DAYLIGHT
TZOFFSETFROM:-0700
TZOFFSETTO:-0600
TZNAME:MDT
DTSTART:20190310T090000
END:DAYLIGHT
BEGIN:STANDARD
TZOFFSETFROM:-0600
TZOFFSETTO:-0700
TZNAME:MST
DTSTART:20191103T080000
END:STANDARD
BEGIN:DAYLIGHT
TZOFFSETFROM:-0700
TZOFFSETTO:-0600
TZNAME:MDT
DTSTART:20200308T090000
END:DAYLIGHT
BEGIN:STANDARD
TZOFFSETFROM:-0600
TZOFFSETTO:-0700
TZNAME:MST
DTSTART:20201101T080000
END:STANDARD
BEGIN:DAYLIGHT
TZOFFSETFROM:-0700
TZOFFSETTO:-0600
TZNAME:MDT
DTSTART:20210314T090000
END:DAYLIGHT
BEGIN:STANDARD
TZOFFSETFROM:-0600
TZOFFSETTO:-0700
TZNAME:MST
DTSTART:20211107T080000
END:STANDARD
BEGIN:DAYLIGHT
TZOFFSETFROM:-0700
TZOFFSETTO:-0600
TZNAME:MDT
DTSTART:20220313T090000
END:DAYLIGHT
BEGIN:STANDARD
TZOFFSETFROM:-0600
TZOFFSETTO:-0700
TZNAME:MST
DTSTART:20221106T080000
END:STANDARD
END:VTIMEZONE
BEGIN:VEVENT
DTSTART;TZID=America/Phoenix:20221118T140000
DTEND;TZID=America/Phoenix:20221118T150000
DTSTAMP:20260423T100345
CREATED:20221018T160145Z
LAST-MODIFIED:20221115T225249Z
UID:1310-1668780000-1668783600@www.fmcdwc.org
SUMMARY:Healthy Relationships
DESCRIPTION:Community Health Talk Circles\nTribal Administration Meeting Room\nFriday\, November 18\, 2022\n2:00 p.m. – 3:00 p.m. (tentatively)
URL:https://www.fmcdwc.org/event/healthy-relationships/
LOCATION:Tribal Administration Meeting Room\, 111 N Reservation RD\, McDermitt\, NV\, 89421\, United States
END:VEVENT
BEGIN:VEVENT
DTSTART;TZID=America/Phoenix:20221107T130000
DTEND;TZID=America/Phoenix:20221107T180000
DTSTAMP:20260423T100345
CREATED:20221026T171414Z
LAST-MODIFIED:20221026T171414Z
UID:1363-1667826000-1667844000@www.fmcdwc.org
SUMMARY:Marketplace and Medicare Insurance Enrollment
DESCRIPTION:You are invited to come to this enrollment event. If you have had questions regarding your Medicare enrollment and want answers make sure to stop by and have those questions answered. Certified Medicare counselors will be present to assist you as needed. If you plan on making changes you will need to bring the following: \n\nMedicare Card\nCurrent Part D Card\nList of Medications\n\nDo you not qualify for Medicaid\, but need/want insurance coverage? Is the cost of insurance coverage a hindrance to you and your family? The Fort McDermitt Wellness Center now has sponsored insurance for the tribal members of the Ft. McDermitt Paiute-Shoshone Tribe. This means tribal members can now have insurance without the concern of covering the costs of their insurance for themselves and their family. Angela can help you find an insurance plan that fits your needs through the Nevada Marketplace Insurances. Here is what you will need to bring for assistance: \n\nPhoto ID\nProof of Income – last 3 paycheck stubs\nSocial Security Cards – for all members needing insurance\nTribal ID Card\n\n \n 
URL:https://www.fmcdwc.org/event/marketplace-and-medicare-insurance-enrollment/
LOCATION:Tribal Administration Meeting Room\, 111 N Reservation RD\, McDermitt\, NV\, 89421\, United States
END:VEVENT
BEGIN:VEVENT
DTSTART;TZID=America/Phoenix:20220402T073000
DTEND;TZID=America/Phoenix:20220402T130000
DTSTAMP:20260423T100345
CREATED:20220318T223142Z
LAST-MODIFIED:20220318T223142Z
UID:1298-1648884600-1648904400@www.fmcdwc.org
SUMMARY:Diabetes Education Class
DESCRIPTION:Diabetes Education Classes will begin Saturday\, March 5\, 2022 \nClasses will be in the Conference Room at Fort McDermitt Wellness Center (West Side of the Building).  Attendance in each class is limited to FIVE people. Please call or send a text message to Dr. Pamela V Johnson AAPRN\, FNP-BC at 775-403-3190 to register and confirm intent to attend. \nClasses will be in two sessions: \n\n7:30 am Breakfast Gathering\n10:00 am Brunch Session\n\nClasses will be held every Saturday: \nMarch                       April  \n5th                             2nd \n12th \n19th \n26th \nContent for both Breakfast and Brunch Classes is the same: \nWeek 1 Living with Diabetes: Introduction to Continuous Glucose Monitoring \nWeek 2 Managing Blood Sugars using a Continuous Glucose Monitoring Machine \nWeek 3 Reading Food Labels \nWeek 4 Benefits of Exercise \nWeek 5 Moving Forward \nDiabetes Education Gatherings are available through ZOOM. Register once to attend all five Breakfast 7:30 a.m. or Brunch 10:00 a.m. sessions using ZOOM.  Registration helps us know who plans to attend online and who to contact after meetings to personalize care. \nFor the 7:30 a.m. meetings register at the following link: \nhttps://us02web.zoom.us/meeting/register/tZwrduioqjwjHdFtCe07QBIdZNSW8P6sGfpO \nFor the 10:00 a.m. meetings register at the following link: \nhttps://us02web.zoom.us/meeting/register/tZUlc-CuqD0oGNYqXtItHNsPn5E6kBHXz3pZ \nOnce registered you will receive a confirmation email containing information about joining the meeting.
URL:https://www.fmcdwc.org/event/diabetes-education-class-3/
LOCATION:Wellness Center\, 112 North Reservation Rd\, McDermitt\, NV\, 89421\, United States
END:VEVENT
BEGIN:VEVENT
DTSTART;TZID=America/Phoenix:20220326T073000
DTEND;TZID=America/Phoenix:20220326T130000
DTSTAMP:20260423T100345
CREATED:20220318T222812Z
LAST-MODIFIED:20220318T222812Z
UID:1296-1648279800-1648299600@www.fmcdwc.org
SUMMARY:Diabetes Education Class
DESCRIPTION:Diabetes Education Classes will begin Saturday\, March 5\, 2022 \nClasses will be in the Conference Room at Fort McDermitt Wellness Center (West Side of the Building).  Attendance in each class is limited to FIVE people. Please call or send a text message to Dr. Pamela V Johnson AAPRN\, FNP-BC at 775-403-3190 to register and confirm intent to attend. \nClasses will be in two sessions: \n\n7:30 am Breakfast Gathering\n10:00 am Brunch Session\n\nClasses will be held every Saturday: \nMarch                       April  \n5th                             2nd \n12th \n19th \n26th \nContent for both Breakfast and Brunch Classes is the same: \nWeek 1 Living with Diabetes: Introduction to Continuous Glucose Monitoring \nWeek 2 Managing Blood Sugars using a Continuous Glucose Monitoring Machine \nWeek 3 Reading Food Labels \nWeek 4 Benefits of Exercise \nWeek 5 Moving Forward \nDiabetes Education Gatherings are available through ZOOM. Register once to attend all five Breakfast 7:30 a.m. or Brunch 10:00 a.m. sessions using ZOOM.  Registration helps us know who plans to attend online and who to contact after meetings to personalize care. \nFor the 7:30 a.m. meetings register at the following link: \nhttps://us02web.zoom.us/meeting/register/tZwrduioqjwjHdFtCe07QBIdZNSW8P6sGfpO \nFor the 10:00 a.m. meetings register at the following link: \nhttps://us02web.zoom.us/meeting/register/tZUlc-CuqD0oGNYqXtItHNsPn5E6kBHXz3pZ \nOnce registered you will receive a confirmation email containing information about joining the meeting.
URL:https://www.fmcdwc.org/event/diabetes-education-class-2/
LOCATION:Wellness Center\, 112 North Reservation Rd\, McDermitt\, NV\, 89421\, United States
END:VEVENT
BEGIN:VEVENT
DTSTART;TZID=America/Phoenix:20220319T073000
DTEND;TZID=America/Phoenix:20220319T130000
DTSTAMP:20260423T100345
CREATED:20220318T183059Z
LAST-MODIFIED:20220318T222904Z
UID:1287-1647675000-1647694800@www.fmcdwc.org
SUMMARY:Diabetes Education Class
DESCRIPTION:Diabetes Education Classes will begin Saturday\, March 5\, 2022 \nClasses will be in the Conference Room at Fort McDermitt Wellness Center (West Side of the Building).  Attendance in each class is limited to FIVE people. Please call or send a text message to Dr. Pamela V Johnson AAPRN\, FNP-BC at 775-403-3190 to register and confirm intent to attend. \nClasses will be in two sessions: \n\n7:30 am Breakfast Gathering\n10:00 am Brunch Session\n\nClasses will be held every Saturday: \nMarch                       April  \n5th                             2nd \n12th \n19th \n26th \nContent for both Breakfast and Brunch Classes is the same: \nWeek 1 Living with Diabetes: Introduction to Continuous Glucose Monitoring \nWeek 2 Managing Blood Sugars using a Continuous Glucose Monitoring Machine \nWeek 3 Reading Food Labels \nWeek 4 Benefits of Exercise \nWeek 5 Moving Forward \nDiabetes Education Gatherings are available through ZOOM. Register once to attend all five Breakfast 7:30 a.m. or Brunch 10:00 a.m. sessions using ZOOM.  Registration helps us know who plans to attend online and who to contact after meetings to personalize care. \nFor the 7:30 a.m. meetings register at the following link: \nhttps://us02web.zoom.us/meeting/register/tZwrduioqjwjHdFtCe07QBIdZNSW8P6sGfpO \nFor the 10:00 a.m. meetings register at the following link: \nhttps://us02web.zoom.us/meeting/register/tZUlc-CuqD0oGNYqXtItHNsPn5E6kBHXz3pZ \nOnce registered you will receive a confirmation email containing information about joining the meeting.
URL:https://www.fmcdwc.org/event/diabetes-education-class/
LOCATION:Wellness Center\, 112 North Reservation Rd\, McDermitt\, NV\, 89421\, United States
END:VEVENT
BEGIN:VEVENT
DTSTART;TZID=America/Boise:20210305T180000
DTEND;TZID=America/Boise:20210305T180000
DTSTAMP:20260423T100345
CREATED:20210305T002259Z
LAST-MODIFIED:20210305T002259Z
UID:1250-1614967200-1614967200@www.fmcdwc.org
SUMMARY:COVID-19 VACCINE INFORMATIONAL WEBINAR
DESCRIPTION:
URL:https://www.fmcdwc.org/event/covid-19-vaccine-informational-webinar/
LOCATION:NV
END:VEVENT
BEGIN:VEVENT
DTSTART;VALUE=DATE:20210208
DTEND;VALUE=DATE:20210210
DTSTAMP:20260423T100345
CREATED:20210116T084734Z
LAST-MODIFIED:20210116T084734Z
UID:1208-1612742400-1612915199@www.fmcdwc.org
SUMMARY:Acupuncturist onsite- Dr. Kang
DESCRIPTION:
URL:https://www.fmcdwc.org/event/acupuncturist-onsite-dr-kang/
LOCATION:NV
END:VEVENT
BEGIN:VEVENT
DTSTART;TZID=America/Boise:20210113T100000
DTEND;TZID=America/Boise:20210113T120000
DTSTAMP:20260423T100345
CREATED:20201223T164033Z
LAST-MODIFIED:20210107T235225Z
UID:1136-1610532000-1610539200@www.fmcdwc.org
SUMMARY:CERVICAL CANCER AWARENESS DAY
DESCRIPTION:Education \nCounselling \nTeal colored Sweatshirts \nTeal items \nFoods \nSupport
URL:https://www.fmcdwc.org/event/cervical-cancer-awareness-day/
LOCATION:NV
END:VEVENT
BEGIN:VEVENT
DTSTART;TZID=America/Boise:20210113T080000
DTEND;TZID=America/Boise:20210113T170000
DTSTAMP:20260423T100345
CREATED:20210108T002445Z
LAST-MODIFIED:20210108T002450Z
UID:1200-1610524800-1610557200@www.fmcdwc.org
SUMMARY:Gynecologist Merleen Onsite
DESCRIPTION:
URL:https://www.fmcdwc.org/event/gynecologist-merleen-onsite-2/
LOCATION:NV
END:VEVENT
BEGIN:VEVENT
DTSTART;TZID=America/Boise:20210111T080000
DTEND;TZID=America/Boise:20210112T170000
DTSTAMP:20260423T100345
CREATED:20210107T235302Z
LAST-MODIFIED:20210108T002415Z
UID:1198-1610352000-1610470800@www.fmcdwc.org
SUMMARY:Acupuncturist Dr. Kang
DESCRIPTION:
URL:https://www.fmcdwc.org/event/acupuncturist-dr-kang-2/
LOCATION:NV
END:VEVENT
BEGIN:VEVENT
DTSTART;VALUE=DATE:20201224
DTEND;VALUE=DATE:20201226
DTSTAMP:20260423T100345
CREATED:20201223T162123Z
LAST-MODIFIED:20201223T180320Z
UID:1133-1608768000-1608940799@www.fmcdwc.org
SUMMARY:CLINIC CLOSED -CHRISTMAS BREAK
DESCRIPTION:
URL:https://www.fmcdwc.org/event/clinic-closed-christmas-break/
LOCATION:NV
END:VEVENT
BEGIN:VEVENT
DTSTART;TZID=America/Boise:20201223T080000
DTEND;TZID=America/Boise:20201223T160000
DTSTAMP:20260423T100345
CREATED:20201203T171743Z
LAST-MODIFIED:20201203T171746Z
UID:1088-1608710400-1608739200@www.fmcdwc.org
SUMMARY:Gynecologist Merleen Onsite 12/23/2020
DESCRIPTION:
URL:https://www.fmcdwc.org/event/gynecologist-merleen-onsite-12-23-2020/
LOCATION:NV
END:VEVENT
BEGIN:VEVENT
DTSTART;TZID=America/Boise:20201222T100000
DTEND;TZID=America/Boise:20201222T120000
DTSTAMP:20260423T100345
CREATED:20201223T070234Z
LAST-MODIFIED:20201223T070238Z
UID:1128-1608631200-1608638400@www.fmcdwc.org
SUMMARY:Christmas Gift for Kids on 12/22/2020
DESCRIPTION:
URL:https://www.fmcdwc.org/event/christmas-gift-for-kids-on-12-22-2020/
LOCATION:NV
END:VEVENT
BEGIN:VEVENT
DTSTART;TZID=America/Boise:20201218T143000
DTEND;TZID=America/Boise:20201218T170000
DTSTAMP:20260423T100345
CREATED:20201126T232028Z
LAST-MODIFIED:20201126T232032Z
UID:1067-1608301800-1608310800@www.fmcdwc.org
SUMMARY:Christmas Food Distribution at FMWC Parking Lot-- Drive Thru
DESCRIPTION:
URL:https://www.fmcdwc.org/event/christmas-food-distribution-at-fmwc-parking-lot-drive-thru-3/
LOCATION:NV
END:VEVENT
BEGIN:VEVENT
DTSTART;TZID=America/Boise:20201216T100000
DTEND;TZID=America/Boise:20201216T120000
DTSTAMP:20260423T100345
CREATED:20201112T014824Z
LAST-MODIFIED:20201112T014828Z
UID:1026-1608112800-1608120000@www.fmcdwc.org
SUMMARY:Christmas Gift Day by Santa Claus
DESCRIPTION:
URL:https://www.fmcdwc.org/event/christmas-gift-day-by-santa-claus/
LOCATION:NV
END:VEVENT
BEGIN:VEVENT
DTSTART;TZID=America/Boise:20201216T093000
DTEND;TZID=America/Boise:20201216T113000
DTSTAMP:20260423T100345
CREATED:20201126T231642Z
LAST-MODIFIED:20201126T231645Z
UID:1060-1608111000-1608118200@www.fmcdwc.org
SUMMARY:Elder Christmas Day
DESCRIPTION:Elder Care Packages and Boxes of Foods are ready for Elders! \n9:30am to 11:30am at the Tribal Offices Parking Lot.
URL:https://www.fmcdwc.org/event/elder-christmas-day/
LOCATION:NV
END:VEVENT
BEGIN:VEVENT
DTSTART;TZID=America/Boise:20201215T080000
DTEND;TZID=America/Boise:20201215T170000
DTSTAMP:20260423T100345
CREATED:20201215T175042Z
LAST-MODIFIED:20201215T175042Z
UID:1120-1608019200-1608051600@www.fmcdwc.org
SUMMARY:COVID-19 Testing RINA Certified Tech: Ryan Murrah and Morissa Bitt
DESCRIPTION:
URL:https://www.fmcdwc.org/event/covid-19-testing-rina-certified-tech-ryan-murrah-and-morissa-bitt/
LOCATION:NV
END:VEVENT
BEGIN:VEVENT
DTSTART;TZID=America/Boise:20201214T100000
DTEND;TZID=America/Boise:20201214T120000
DTSTAMP:20260423T100345
CREATED:20201215T022342Z
LAST-MODIFIED:20201215T022342Z
UID:1114-1607940000-1607947200@www.fmcdwc.org
SUMMARY:Christmas Gift Day for Kids
DESCRIPTION:
URL:https://www.fmcdwc.org/event/christmas-gift-day-for-kids/
LOCATION:NV
END:VEVENT
BEGIN:VEVENT
DTSTART;TZID=America/Boise:20201214T080000
DTEND;TZID=America/Boise:20201215T170000
DTSTAMP:20260423T100345
CREATED:20201126T232248Z
LAST-MODIFIED:20201215T172729Z
UID:1074-1607932800-1608051600@www.fmcdwc.org
SUMMARY:Acupuncturist\, Dr. Kang Onsite
DESCRIPTION:
URL:https://www.fmcdwc.org/event/acupuncturist-dr-kang-onsite-2/
LOCATION:NV
END:VEVENT
BEGIN:VEVENT
DTSTART;TZID=America/Boise:20201214T080000
DTEND;TZID=America/Boise:20201214T133000
DTSTAMP:20260423T100345
CREATED:20201214T231217Z
LAST-MODIFIED:20201214T231220Z
UID:1096-1607932800-1607952600@www.fmcdwc.org
SUMMARY:RAPID ID NOW ANALYZER CERTIFIED TECHS
DESCRIPTION:
URL:https://www.fmcdwc.org/event/rapid-id-now-analyzer-certified-techs/
LOCATION:NV
END:VEVENT
BEGIN:VEVENT
DTSTART;TZID=America/Boise:20201211T143000
DTEND;TZID=America/Boise:20201211T170000
DTSTAMP:20260423T100345
CREATED:20201126T232005Z
LAST-MODIFIED:20201126T232008Z
UID:1065-1607697000-1607706000@www.fmcdwc.org
SUMMARY:Christmas Food Distribution at FMWC Parking Lot-- Drive Thru
DESCRIPTION:
URL:https://www.fmcdwc.org/event/christmas-food-distribution-at-fmwc-parking-lot-drive-thru-2/
LOCATION:NV
END:VEVENT
BEGIN:VEVENT
DTSTART;TZID=America/Boise:20201210T100000
DTEND;TZID=America/Boise:20201210T140000
DTSTAMP:20260423T100345
CREATED:20201126T231507Z
LAST-MODIFIED:20201126T231716Z
UID:1058-1607594400-1607608800@www.fmcdwc.org
SUMMARY:Podiatry Day-Foot Care Day
DESCRIPTION:Dr. John Patton will be onsite from 10am to 2pm. \nMake an appointment–and be on time. \nThank you.
URL:https://www.fmcdwc.org/event/podiatry-day-foot-care-day/
LOCATION:NV
END:VEVENT
BEGIN:VEVENT
DTSTART;TZID=America/Boise:20201209T100000
DTEND;TZID=America/Boise:20201209T120000
DTSTAMP:20260423T100345
CREATED:20201126T232119Z
LAST-MODIFIED:20201209T181907Z
UID:1070-1607508000-1607515200@www.fmcdwc.org
SUMMARY:Referral Day
DESCRIPTION:McDermitt Wellness Center \n                           Survey December 2020 \nDo you have any comments/complaints about the services at the clinic? \nAny way we can improve providing healthcare for the community? \nAll concerns will be addressed \nThank you for your participation
URL:https://www.fmcdwc.org/event/referral-day/
LOCATION:NV
END:VEVENT
BEGIN:VEVENT
DTSTART;TZID=America/Boise:20201209T080000
DTEND;TZID=America/Boise:20201209T160000
DTSTAMP:20260423T100345
CREATED:20201203T171708Z
LAST-MODIFIED:20201203T171712Z
UID:1086-1607500800-1607529600@www.fmcdwc.org
SUMMARY:Gynecologist Merleen Onsite 12/9/2020
DESCRIPTION:
URL:https://www.fmcdwc.org/event/gynecologist-merleen-onsite-12-9-2020/
LOCATION:NV
END:VEVENT
BEGIN:VEVENT
DTSTART;TZID=America/Boise:20201204T143000
DTEND;TZID=America/Boise:20201204T170000
DTSTAMP:20260423T100345
CREATED:20201126T231859Z
LAST-MODIFIED:20201126T231903Z
UID:1063-1607092200-1607101200@www.fmcdwc.org
SUMMARY:Christmas Food Distribution at FMWC Parking Lot-- Drive Thru
DESCRIPTION:
URL:https://www.fmcdwc.org/event/christmas-food-distribution-at-fmwc-parking-lot-drive-thru/
LOCATION:NV
END:VEVENT
BEGIN:VEVENT
DTSTART;VALUE=DATE:20201126
DTEND;VALUE=DATE:20201128
DTSTAMP:20260423T100345
CREATED:20201015T024932Z
LAST-MODIFIED:20201015T024935Z
UID:974-1606348800-1606521599@www.fmcdwc.org
SUMMARY:Thanksgiving Day and Black Friday
DESCRIPTION:
URL:https://www.fmcdwc.org/event/thanksgiving-day-and-black-friday/
LOCATION:NV
END:VEVENT
BEGIN:VEVENT
DTSTART;TZID=America/Boise:20201124T100000
DTEND;TZID=America/Boise:20201124T120000
DTSTAMP:20260423T100345
CREATED:20201118T225231Z
LAST-MODIFIED:20201118T225235Z
UID:1033-1606212000-1606219200@www.fmcdwc.org
SUMMARY:Winter Coat Drive for Kids and Elders
DESCRIPTION:
URL:https://www.fmcdwc.org/event/winter-coat-drive-for-kids-and-elders/
LOCATION:NV
END:VEVENT
BEGIN:VEVENT
DTSTART;TZID=America/Boise:20201124T100000
DTEND;TZID=America/Boise:20201124T120000
DTSTAMP:20260423T100345
CREATED:20201112T014737Z
LAST-MODIFIED:20201112T014740Z
UID:1024-1606212000-1606219200@www.fmcdwc.org
SUMMARY:Coat Drive for Kids and Elders
DESCRIPTION:
URL:https://www.fmcdwc.org/event/coat-drive-for-kids-and-elders/
LOCATION:NV
END:VEVENT
BEGIN:VEVENT
DTSTART;TZID=America/Boise:20201118T093000
DTEND;TZID=America/Boise:20201118T120000
DTSTAMP:20260423T100345
CREATED:20201126T232346Z
LAST-MODIFIED:20201126T232349Z
UID:1077-1605691800-1605700800@www.fmcdwc.org
SUMMARY:Elder Boxes Day
DESCRIPTION:
URL:https://www.fmcdwc.org/event/elder-boxes-day/
LOCATION:NV
END:VEVENT
BEGIN:VEVENT
DTSTART;TZID=America/Boise:20201113T100000
DTEND;TZID=America/Boise:20201113T120000
DTSTAMP:20260423T100345
CREATED:20201112T014651Z
LAST-MODIFIED:20201112T014703Z
UID:1022-1605261600-1605268800@www.fmcdwc.org
SUMMARY:Nike Shoes Distribution Day
DESCRIPTION:
URL:https://www.fmcdwc.org/event/nike-shoes-distribution-day/
LOCATION:NV
END:VEVENT
END:VCALENDAR