BEGIN:VCALENDAR
VERSION:2.0
PRODID:-//Ft McDermitt Paiute-Shoshone TRB - ECPv6.15.20//NONSGML v1.0//EN
CALSCALE:GREGORIAN
METHOD:PUBLISH
X-ORIGINAL-URL:https://www.fmcdwc.org
X-WR-CALDESC:Events for Ft McDermitt Paiute-Shoshone TRB
REFRESH-INTERVAL;VALUE=DURATION:PT1H
X-Robots-Tag:noindex
X-PUBLISHED-TTL:PT1H
BEGIN:VTIMEZONE
TZID:America/Boise
BEGIN:DAYLIGHT
TZOFFSETFROM:-0700
TZOFFSETTO:-0600
TZNAME:MDT
DTSTART:20170312T090000
END:DAYLIGHT
BEGIN:STANDARD
TZOFFSETFROM:-0600
TZOFFSETTO:-0700
TZNAME:MST
DTSTART:20171105T080000
END:STANDARD
BEGIN:DAYLIGHT
TZOFFSETFROM:-0700
TZOFFSETTO:-0600
TZNAME:MDT
DTSTART:20180311T090000
END:DAYLIGHT
BEGIN:STANDARD
TZOFFSETFROM:-0600
TZOFFSETTO:-0700
TZNAME:MST
DTSTART:20181104T080000
END:STANDARD
BEGIN:DAYLIGHT
TZOFFSETFROM:-0700
TZOFFSETTO:-0600
TZNAME:MDT
DTSTART:20190310T090000
END:DAYLIGHT
BEGIN:STANDARD
TZOFFSETFROM:-0600
TZOFFSETTO:-0700
TZNAME:MST
DTSTART:20191103T080000
END:STANDARD
END:VTIMEZONE
BEGIN:VEVENT
DTSTART;TZID=America/Boise:20181130T120000
DTEND;TZID=America/Boise:20181130T140000
DTSTAMP:20260424T003956
CREATED:20181127T191443Z
LAST-MODIFIED:20181127T191443Z
UID:228-1543579200-1543586400@www.fmcdwc.org
SUMMARY:Hiring Event
DESCRIPTION:FORT McDERMITT EMS PROGRAM – HIRING FOR EMERGENCY MEDICAL TECHNICIANS \nThe Fort McDermitt Wellness Center will be hosting a HIRING EVENT at the  Fort McDermitt Tribal Building to seek applicants for our EMS Program. \nPaid Training and it is free.  Earn $100 per shift. \nCome and fill out a job application and help out your community!
URL:https://www.fmcdwc.org/event/hiring-event/
LOCATION:Fort McDermitt Tribal Building\, 111 North Reservation Road\, McDermitt\, NV\, 89421\, United States
END:VEVENT
BEGIN:VEVENT
DTSTART;TZID=America/Boise:20181129T000000
DTEND;TZID=America/Boise:20181130T235900
DTSTAMP:20260424T003956
CREATED:20181126T171221Z
LAST-MODIFIED:20181127T195615Z
UID:213-1543449600-1543622340@www.fmcdwc.org
SUMMARY:HEALTH BOARD VACANCY
DESCRIPTION:There is a vacant seat on the Tribal Health Board.  If you are interested please submit a letter addressed to the Health Board and submit it to Mr. Billy Bell\, Executive Assistant at 112 North Reservation Road. \nThe deadline is in four days.  For more information contact  Billy at 775-532-8522 Ext. 219 \n 
URL:https://www.fmcdwc.org/event/health-board-vacancy/
LOCATION:Wellness Center\, 112 North Reservation Rd\, McDermitt\, NV\, 89421\, United States
END:VEVENT
BEGIN:VEVENT
DTSTART;TZID=America/Boise:20181128T160000
DTEND;TZID=America/Boise:20181128T190000
DTSTAMP:20260424T003956
CREATED:20181127T195015Z
LAST-MODIFIED:20181127T195021Z
UID:236-1543420800-1543431600@www.fmcdwc.org
SUMMARY:Tribal Health Board Meeting
DESCRIPTION:There will be a special meeting of the Tribal Health Board – open to the public. \nAgenda items include\, the FMWC Pharmacy (an MOU with the IHS)\, updates on the medical provider and third party billing (status)\, and brief discussion regarding policies and procedures for the Purchased\, Referred Care program (PRC).  There will also be one item on the Executive Session (closed to the public). \nAlso\, a discussion after the business is complete\, is to set a date for another community meeting and set the regular board meeting for December. \nFor more information regarding the agenda and items\, or for accommodations\, please contact Billy Bell\, Executive/Board Assistant at (775) 532-8522 (Option 2) Ext. 219.
URL:https://www.fmcdwc.org/event/tribal-health-board-meeting/
LOCATION:NV
END:VEVENT
BEGIN:VEVENT
DTSTART;VALUE=DATE:20181122
DTEND;VALUE=DATE:20181124
DTSTAMP:20260424T003956
CREATED:20181122T014119Z
LAST-MODIFIED:20181122T021327Z
UID:167-1542844800-1543017599@www.fmcdwc.org
SUMMARY:Thanksgiving Holiday - FMWC Closed
DESCRIPTION:The Wellness Center will be closed on Thursday\, November 22\, 2018 and Friday\, November 23\, 2018 to observe Thanksgiving Day
URL:https://www.fmcdwc.org/event/thanksgiving-holiday/
LOCATION:Wellness Center\, 112 North Reservation Rd\, McDermitt\, NV\, 89421\, United States
END:VEVENT
BEGIN:VEVENT
DTSTART;VALUE=DATE:20181026
DTEND;VALUE=DATE:20181027
DTSTAMP:20260424T003956
CREATED:20181016T225908Z
LAST-MODIFIED:20181016T225908Z
UID:162-1540512000-1540598399@www.fmcdwc.org
SUMMARY:Wellness Center Closed Today
DESCRIPTION:In observation of Nevada Indian Day
URL:https://www.fmcdwc.org/event/wellness-center-closed-today/
LOCATION:Wellness Center\, 112 North Reservation Rd\, McDermitt\, NV\, 89421\, United States
END:VEVENT
BEGIN:VEVENT
DTSTART;TZID=America/Boise:20181016T090000
DTEND;TZID=America/Boise:20181016T160000
DTSTAMP:20260424T003956
CREATED:20181016T222256Z
LAST-MODIFIED:20181016T222544Z
UID:151-1539680400-1539705600@www.fmcdwc.org
SUMMARY:Acupuncturist is Here Today
DESCRIPTION:ACUPUNCTURIST DR. JUN B. KANG\, LAC \nTODAY 10/16/2018 \n9AM TO 4PM \n 
URL:https://www.fmcdwc.org/event/acupuncturist-is-here-today/
LOCATION:Wellness Center\, 112 North Reservation Rd\, McDermitt\, NV\, 89421\, United States
END:VEVENT
BEGIN:VEVENT
DTSTART;TZID=America/Boise:20181005T160000
DTEND;TZID=America/Boise:20181005T190000
DTSTAMP:20260424T003956
CREATED:20180927T180301Z
LAST-MODIFIED:20180927T184528Z
UID:130-1538755200-1538766000@www.fmcdwc.org
SUMMARY:Community Health Fair
DESCRIPTION:Download Flyer \n Refreshments\, T- Shirts \nSpecial Thanks To Dr. Jacqueline Bae Health Director  \n  \nInformation on Variety of Topics including:  \n√ Outreach & Enrollment  \n√ Women’s Domestic Violence Services  \n√ Unused/Expired Medications Drop-off Bin  \n√ Information on Breast Cancer Awareness and Prostate Cancer  \n√ Games for Fun  \n√ Raffle Prize giveaway  \nCome and Have Fun!  \n Tables available for Community Members. Submit table requests to the Wellness Center. \nFor more information\, PLEASE CALL: Wellness Center Staff  \n775 532-8522 
URL:https://www.fmcdwc.org/event/community-health-fair/
LOCATION:Fort McDermitt Youth Center
END:VEVENT
END:VCALENDAR