BEGIN:VCALENDAR
VERSION:2.0
PRODID:-//Ft McDermitt Paiute-Shoshone TRB - ECPv6.15.20//NONSGML v1.0//EN
CALSCALE:GREGORIAN
METHOD:PUBLISH
X-WR-CALNAME:Ft McDermitt Paiute-Shoshone TRB
X-ORIGINAL-URL:https://www.fmcdwc.org
X-WR-CALDESC:Events for Ft McDermitt Paiute-Shoshone TRB
REFRESH-INTERVAL;VALUE=DURATION:PT1H
X-Robots-Tag:noindex
X-PUBLISHED-TTL:PT1H
BEGIN:VTIMEZONE
TZID:America/Boise
BEGIN:DAYLIGHT
TZOFFSETFROM:-0700
TZOFFSETTO:-0600
TZNAME:MDT
DTSTART:20170312T090000
END:DAYLIGHT
BEGIN:STANDARD
TZOFFSETFROM:-0600
TZOFFSETTO:-0700
TZNAME:MST
DTSTART:20171105T080000
END:STANDARD
BEGIN:DAYLIGHT
TZOFFSETFROM:-0700
TZOFFSETTO:-0600
TZNAME:MDT
DTSTART:20180311T090000
END:DAYLIGHT
BEGIN:STANDARD
TZOFFSETFROM:-0600
TZOFFSETTO:-0700
TZNAME:MST
DTSTART:20181104T080000
END:STANDARD
BEGIN:DAYLIGHT
TZOFFSETFROM:-0700
TZOFFSETTO:-0600
TZNAME:MDT
DTSTART:20190310T090000
END:DAYLIGHT
BEGIN:STANDARD
TZOFFSETFROM:-0600
TZOFFSETTO:-0700
TZNAME:MST
DTSTART:20191103T080000
END:STANDARD
BEGIN:DAYLIGHT
TZOFFSETFROM:-0700
TZOFFSETTO:-0600
TZNAME:MDT
DTSTART:20200308T090000
END:DAYLIGHT
BEGIN:STANDARD
TZOFFSETFROM:-0600
TZOFFSETTO:-0700
TZNAME:MST
DTSTART:20201101T080000
END:STANDARD
BEGIN:DAYLIGHT
TZOFFSETFROM:-0700
TZOFFSETTO:-0600
TZNAME:MDT
DTSTART:20210314T090000
END:DAYLIGHT
BEGIN:STANDARD
TZOFFSETFROM:-0600
TZOFFSETTO:-0700
TZNAME:MST
DTSTART:20211107T080000
END:STANDARD
END:VTIMEZONE
BEGIN:VEVENT
DTSTART;VALUE=DATE:20200323
DTEND;VALUE=DATE:20200326
DTSTAMP:20260423T200700
CREATED:20200413T101130Z
LAST-MODIFIED:20200413T101139Z
UID:691-1584921600-1585180799@www.fmcdwc.org
SUMMARY:Dr. Kang Acupuncture Visit
DESCRIPTION:
URL:https://www.fmcdwc.org/event/dr-kang-acupuncture-visit/
END:VEVENT
BEGIN:VEVENT
DTSTART;TZID=America/Boise:20200217T080000
DTEND;TZID=America/Boise:20200217T170000
DTSTAMP:20260423T200700
CREATED:20200205T003908Z
LAST-MODIFIED:20200205T162512Z
UID:559-1581926400-1581958800@www.fmcdwc.org
SUMMARY:President's Day Clinic Closed
DESCRIPTION:
URL:https://www.fmcdwc.org/event/presidents-day-clinic-closed/
END:VEVENT
BEGIN:VEVENT
DTSTART;TZID=America/Boise:20200214T120000
DTEND;TZID=America/Boise:20200214T170000
DTSTAMP:20260423T200700
CREATED:20200205T003944Z
LAST-MODIFIED:20200205T003944Z
UID:561-1581681600-1581699600@www.fmcdwc.org
SUMMARY:Happy Valentine's Day-- Admin Day from 12pm to 5pm
DESCRIPTION:
URL:https://www.fmcdwc.org/event/happy-valentines-day-admin-day-from-12pm-to-5pm/
END:VEVENT
BEGIN:VEVENT
DTSTART;VALUE=DATE:20200120
DTEND;VALUE=DATE:20200121
DTSTAMP:20260423T200700
CREATED:20200110T235804Z
LAST-MODIFIED:20200110T235804Z
UID:530-1579478400-1579564799@www.fmcdwc.org
SUMMARY:MLK Clinic is Closed
DESCRIPTION:
URL:https://www.fmcdwc.org/event/mlk-clinic-is-closed/
END:VEVENT
BEGIN:VEVENT
DTSTART;TZID=America/Boise:20200113T120000
DTEND;TZID=America/Boise:20200113T130000
DTSTAMP:20260423T200700
CREATED:20200115T173116Z
LAST-MODIFIED:20200115T173116Z
UID:549-1578916800-1578920400@www.fmcdwc.org
SUMMARY:Dr. Bae Meeting w/ PCS Staff
DESCRIPTION:
URL:https://www.fmcdwc.org/event/dr-bae-meeting-w-pcs-staff/
END:VEVENT
BEGIN:VEVENT
DTSTART;VALUE=DATE:20200113
DTEND;VALUE=DATE:20200115
DTSTAMP:20260423T200700
CREATED:20200110T235715Z
LAST-MODIFIED:20200110T235715Z
UID:527-1578873600-1579046399@www.fmcdwc.org
SUMMARY:Acupuncturist Onsite
DESCRIPTION:Dr. Jun Kang is onsite on Jan. 13th and 14th for Acupuncture Services.
URL:https://www.fmcdwc.org/event/acupuncturist-onsite/
LOCATION:Wellness Center\, 112 North Reservation Rd\, McDermitt\, NV\, 89421\, United States
END:VEVENT
BEGIN:VEVENT
DTSTART;VALUE=DATE:20200110
DTEND;VALUE=DATE:20200201
DTSTAMP:20260423T200700
CREATED:20200111T000117Z
LAST-MODIFIED:20200111T000117Z
UID:536-1578614400-1580515199@www.fmcdwc.org
SUMMARY:January-Cervical Cancer Awareness Month
DESCRIPTION:
URL:https://www.fmcdwc.org/event/january-cervical-cancer-awareness-month/
END:VEVENT
BEGIN:VEVENT
DTSTART;TZID=America/Boise:20200108T080000
DTEND;TZID=America/Boise:20200108T170000
DTSTAMP:20260423T200700
CREATED:20200115T173018Z
LAST-MODIFIED:20200115T173018Z
UID:547-1578470400-1578502800@www.fmcdwc.org
SUMMARY:Dr. Bae Meeting w/ MBA from Coppell\, TX
DESCRIPTION:
URL:https://www.fmcdwc.org/event/dr-bae-meeting-w-mba-from-coppell-tx/
END:VEVENT
BEGIN:VEVENT
DTSTART;TZID=America/Boise:20200107T080000
DTEND;TZID=America/Boise:20200107T170000
DTSTAMP:20260423T200700
CREATED:20200115T172926Z
LAST-MODIFIED:20200115T172926Z
UID:544-1578384000-1578416400@www.fmcdwc.org
SUMMARY:Dr. Bae Meeting  w/ FM Staff
DESCRIPTION:
URL:https://www.fmcdwc.org/event/dr-bae-meeting-w-fm-staff/
END:VEVENT
BEGIN:VEVENT
DTSTART;TZID=America/Boise:20200102T080000
DTEND;TZID=America/Boise:20200102T170000
DTSTAMP:20260423T200700
CREATED:20200115T173224Z
LAST-MODIFIED:20200115T173224Z
UID:551-1577952000-1577984400@www.fmcdwc.org
SUMMARY:Dr. Bae Training - Billiing and Finances Dpt.
DESCRIPTION:
URL:https://www.fmcdwc.org/event/dr-bae-training-billiing-and-finances-dpt/
END:VEVENT
BEGIN:VEVENT
DTSTART;VALUE=DATE:20200101
DTEND;VALUE=DATE:20200102
DTSTAMP:20260423T200700
CREATED:20200110T235854Z
LAST-MODIFIED:20200110T235854Z
UID:532-1577836800-1577923199@www.fmcdwc.org
SUMMARY:New Year's Day Clinic Closed
DESCRIPTION:
URL:https://www.fmcdwc.org/event/new-years-day-clinic-closed/
END:VEVENT
BEGIN:VEVENT
DTSTART;TZID=America/Boise:20191218T150000
DTEND;TZID=America/Boise:20191218T170000
DTSTAMP:20260423T200700
CREATED:20200107T155336Z
LAST-MODIFIED:20200107T155336Z
UID:494-1576681200-1576688400@www.fmcdwc.org
SUMMARY:Q4 Christmas Health Fair
DESCRIPTION:
URL:https://www.fmcdwc.org/event/q4-christmas-health-fair/
END:VEVENT
BEGIN:VEVENT
DTSTART;TZID=America/Boise:20191030T150000
DTEND;TZID=America/Boise:20191030T180000
DTSTAMP:20260423T200700
CREATED:20190917T213233Z
LAST-MODIFIED:20190917T213237Z
UID:482-1572447600-1572458400@www.fmcdwc.org
SUMMARY:Q3 Breast Cancer Awareness Event
DESCRIPTION:
URL:https://www.fmcdwc.org/event/q3-breast-cancer-awareness-event/
END:VEVENT
BEGIN:VEVENT
DTSTART;TZID=America/Boise:20191022T123000
DTEND;TZID=America/Boise:20191022T163000
DTSTAMP:20260423T200700
CREATED:20190917T213323Z
LAST-MODIFIED:20190917T213326Z
UID:484-1571747400-1571761800@www.fmcdwc.org
SUMMARY:EHS Training for FMWC Staff by IHS
DESCRIPTION:
URL:https://www.fmcdwc.org/event/ehs-training-for-fmwc-staff-by-ihs/
END:VEVENT
BEGIN:VEVENT
DTSTART;TZID=America/Boise:20190822T080000
DTEND;TZID=America/Boise:20190822T170000
DTSTAMP:20260423T200700
CREATED:20190917T213139Z
LAST-MODIFIED:20190917T213145Z
UID:480-1566460800-1566493200@www.fmcdwc.org
SUMMARY:Q2 Summer Health Fair
DESCRIPTION:
URL:https://www.fmcdwc.org/event/q2-summer-health-fair/
END:VEVENT
BEGIN:VEVENT
DTSTART;TZID=America/Boise:20190702T160000
DTEND;TZID=America/Boise:20190702T180000
DTSTAMP:20260423T200700
CREATED:20190612T195816Z
LAST-MODIFIED:20190612T195816Z
UID:471-1562083200-1562090400@www.fmcdwc.org
SUMMARY:Summer BBQ
DESCRIPTION:Great Food \nEducation \nDoor Prizes \nIntro of new Providers
URL:https://www.fmcdwc.org/event/summer-bbq/
END:VEVENT
BEGIN:VEVENT
DTSTART;TZID=America/Boise:20190627T160000
DTEND;TZID=America/Boise:20190627T180000
DTSTAMP:20260423T200700
CREATED:20190530T234805Z
LAST-MODIFIED:20190530T234805Z
UID:461-1561651200-1561658400@www.fmcdwc.org
SUMMARY:BBQ for FMPS Tribe
DESCRIPTION:BBQ \nFoods \nTshirts \nGiveaways \nGames
URL:https://www.fmcdwc.org/event/bbq-for-fmps-tribe/
END:VEVENT
BEGIN:VEVENT
DTSTART;TZID=America/Boise:20190617T080000
DTEND;TZID=America/Boise:20190618T170000
DTSTAMP:20260423T200700
CREATED:20190530T214932Z
LAST-MODIFIED:20190530T214932Z
UID:459-1560758400-1560877200@www.fmcdwc.org
SUMMARY:Dr. Jun Kang LAC--6/17 & 18
DESCRIPTION:
URL:https://www.fmcdwc.org/event/dr-jun-kang-lac-6-17-18/
END:VEVENT
BEGIN:VEVENT
DTSTART;TZID=America/Boise:20190530T080000
DTEND;TZID=America/Boise:20190530T170000
DTSTAMP:20260423T200700
CREATED:20190530T214626Z
LAST-MODIFIED:20190530T214731Z
UID:456-1559203200-1559235600@www.fmcdwc.org
SUMMARY:LAC Dr. Jun Kang--next visit is on June 17 & 18
DESCRIPTION:
URL:https://www.fmcdwc.org/event/lac-dr-jun-kang-next-visit-is-on-june-17-18/
END:VEVENT
BEGIN:VEVENT
DTSTART;TZID=America/Boise:20190425T150000
DTEND;TZID=America/Boise:20190425T170000
DTSTAMP:20260423T200700
CREATED:20190408T213903Z
LAST-MODIFIED:20190408T213903Z
UID:411-1556204400-1556211600@www.fmcdwc.org
SUMMARY:Fair: Sexual Assault Awareness Month
DESCRIPTION:
URL:https://www.fmcdwc.org/event/fair-sexual-assault-awareness-month/
END:VEVENT
BEGIN:VEVENT
DTSTART;VALUE=DATE:20190415
DTEND;VALUE=DATE:20190417
DTSTAMP:20260423T200700
CREATED:20181126T162736Z
LAST-MODIFIED:20190408T213656Z
UID:198-1555286400-1555459199@www.fmcdwc.org
SUMMARY:Acupuncture Services by Dr. Kang
DESCRIPTION:Dr. Kang will be at the Ft. McDermitt Wellness Center for acupuncture services.  Please set up an appointment for your acupuncture by calling Patient Registration at (775) 532-8522 (Option 1) today.
URL:https://www.fmcdwc.org/event/acupuncture-services-by-dr-kang/
LOCATION:Wellness Center\, 112 North Reservation Rd\, McDermitt\, NV\, 89421\, United States
END:VEVENT
BEGIN:VEVENT
DTSTART;TZID=America/Boise:20190413T083000
DTEND;TZID=America/Boise:20190413T110000
DTSTAMP:20260423T200700
CREATED:20190320T220616Z
LAST-MODIFIED:20190320T221524Z
UID:398-1555144200-1555153200@www.fmcdwc.org
SUMMARY:Wellness Walk 2019
DESCRIPTION:In conjunction with the 2019 Multi-cultural Youth Summit and Powwow  \nWinnemucca Events Complex  \nWalk Sign-in: 8:30am \nWalk Begins: 9:00am \n(with plenty of time to prepare for the Powwow after) \nT-shirts for the first 50 Youth and first 100 Adults to finish!
URL:https://www.fmcdwc.org/event/wellness-walk/
LOCATION:Winnemucca Events Complex\, 50 W Winnemucca Blvd\, Winnemucca\, NV\, 89445\, United States
END:VEVENT
BEGIN:VEVENT
DTSTART;VALUE=DATE:20190412
DTEND;VALUE=DATE:20190413
DTSTAMP:20260423T200700
CREATED:20190408T213945Z
LAST-MODIFIED:20190408T213945Z
UID:413-1555027200-1555113599@www.fmcdwc.org
SUMMARY:Np Pamela SN's last day
DESCRIPTION:
URL:https://www.fmcdwc.org/event/np-pamela-sns-last-day/
END:VEVENT
BEGIN:VEVENT
DTSTART;TZID=America/Boise:20190409T100000
DTEND;TZID=America/Boise:20190409T133000
DTSTAMP:20260423T200700
CREATED:20190408T213802Z
LAST-MODIFIED:20190408T213802Z
UID:409-1554804000-1554816600@www.fmcdwc.org
SUMMARY:Tribal Council Meeting
DESCRIPTION:
URL:https://www.fmcdwc.org/event/tribal-council-meeting/
END:VEVENT
BEGIN:VEVENT
DTSTART;TZID=America/Boise:20190321T150000
DTEND;TZID=America/Boise:20190321T170000
DTSTAMP:20260423T200700
CREATED:20190305T003451Z
LAST-MODIFIED:20190305T003455Z
UID:314-1553180400-1553187600@www.fmcdwc.org
SUMMARY:March Community Event- CVD and CRC
DESCRIPTION:
URL:https://www.fmcdwc.org/event/march-community-event-cvd-and-crc/
END:VEVENT
BEGIN:VEVENT
DTSTART;TZID=America/Boise:20190321T150000
DTEND;TZID=America/Boise:20190321T170000
DTSTAMP:20260423T200700
CREATED:20190226T225733Z
LAST-MODIFIED:20190305T003643Z
UID:294-1553180400-1553187600@www.fmcdwc.org
SUMMARY:CVD Event
DESCRIPTION:
URL:https://www.fmcdwc.org/event/cvd-event/
END:VEVENT
BEGIN:VEVENT
DTSTART;TZID=America/Boise:20190311T080000
DTEND;TZID=America/Boise:20190312T170000
DTSTAMP:20260423T200700
CREATED:20190226T225646Z
LAST-MODIFIED:20190226T225646Z
UID:292-1552291200-1552410000@www.fmcdwc.org
SUMMARY:Acupuncturist Dr. Kang Onsite
DESCRIPTION:
URL:https://www.fmcdwc.org/event/acupuncturist-dr-kang-onsite/
END:VEVENT
BEGIN:VEVENT
DTSTART;TZID=America/Boise:20190226T080000
DTEND;TZID=America/Boise:20190226T170000
DTSTAMP:20260423T200700
CREATED:20190226T225223Z
LAST-MODIFIED:20190226T225223Z
UID:288-1551168000-1551200400@www.fmcdwc.org
SUMMARY:March 7th\, 2019 : CVD Heart Awareness Event
DESCRIPTION:Healthy Foods are provided \nRaffle Tickets \nHeart Health Awareness \nImmunization \nDental Advertisement
URL:https://www.fmcdwc.org/event/march-7th-2019-cvd-heart-awareness-event/
END:VEVENT
BEGIN:VEVENT
DTSTART;VALUE=DATE:20181225
DTEND;VALUE=DATE:20181226
DTSTAMP:20260423T200700
CREATED:20181204T224155Z
LAST-MODIFIED:20181204T224202Z
UID:262-1545696000-1545782399@www.fmcdwc.org
SUMMARY:FMWC Closed
DESCRIPTION:
URL:https://www.fmcdwc.org/event/fmwc-closed/
END:VEVENT
BEGIN:VEVENT
DTSTART;TZID=America/Boise:20181205T120000
DTEND;TZID=America/Boise:20181205T130000
DTSTAMP:20260423T200700
CREATED:20181204T224026Z
LAST-MODIFIED:20181204T224026Z
UID:260-1544011200-1544014800@www.fmcdwc.org
SUMMARY:Health Board Meeting
DESCRIPTION:
URL:https://www.fmcdwc.org/event/health-board-meeting/
END:VEVENT
END:VCALENDAR